BEGIN:VCALENDAR
VERSION:2.0
PRODID:-//Sabre//Sabre VObject 4.5.8//EN
CALSCALE:GREGORIAN
BEGIN:VEVENT
UID:sabre-vobject-2d6a5d7e-07d7-484e-9fd4-afa8e184b665
DTSTAMP:20260424T164016Z
SUMMARY:Brazilian Jiu Jitsu Class
DESCRIPTION:
X-ALT-DESC:FMTTYPE=text/html:<!DOCTYPE HTML PUBLIC "-//W3C//DTD HTML 3.2//E
 N"><HTML></HTML>
CREATED;TZID=Europe/Oslo:20230109T153607
URL;VALUE=URI:https://chievres.armymwr.com/calendar/event
DTSTART;TZID=Europe/Oslo:20221129T180000
DTEND;TZID=Europe/Oslo:20221129T190000
SEQUENCE:0
END:VEVENT
BEGIN:VEVENT
UID:sabre-vobject-e5a111b2-011a-4150-8b46-4fa648c4630c
DTSTAMP:20260424T164016Z
SUMMARY:Brazilian Jiu Jitsu Class
DESCRIPTION:
X-ALT-DESC:FMTTYPE=text/html:<!DOCTYPE HTML PUBLIC "-//W3C//DTD HTML 3.2//E
 N"><HTML></HTML>
CREATED;TZID=Europe/Oslo:20230109T153607
URL;VALUE=URI:https://chievres.armymwr.com/calendar/event
DTSTART;TZID=Europe/Oslo:20221201T180000
DTEND;TZID=Europe/Oslo:20221201T190000
SEQUENCE:1
END:VEVENT
BEGIN:VEVENT
UID:sabre-vobject-89119ddc-c558-4fab-9e18-20b68bbd6495
DTSTAMP:20260424T164016Z
SUMMARY:Brazilian Jiu Jitsu Class
DESCRIPTION:
X-ALT-DESC:FMTTYPE=text/html:<!DOCTYPE HTML PUBLIC "-//W3C//DTD HTML 3.2//E
 N"><HTML></HTML>
CREATED;TZID=Europe/Oslo:20230109T153607
URL;VALUE=URI:https://chievres.armymwr.com/calendar/event
DTSTART;TZID=Europe/Oslo:20221126T110000
DTEND;TZID=Europe/Oslo:20221126T140000
SEQUENCE:2
END:VEVENT
END:VCALENDAR
